BEGIN:VCALENDAR
VERSION:2.0
PRODID:-//My Community Diary//iCal Event//EN
CALSCALE:GREGORIAN
METHOD:PUBLISH
BEGIN:VEVENT
UID:8e2c2a35-5344-45d4-b9b1-0cb3eb4dffcb
DTSTAMP:20260424T160514Z
DTSTART:20240601T000000Z
DTEND:20240601T235959Z
SUMMARY:Betoota Horse & Motorbike Gymkhana and Cricket Day
DESCRIPTION:The annual Betoota Horse & Motorbike Gymkhana and Cricket Day\, brings Australia's smallest town alive. Watch bushmen and women compete in exercises of true horsemanship and skillful dirt bike riding.\n\nSaturday you can expect barrel racing and much more at the Horse Gymkhana followed by Motorbike Gymkhana and Enduro later in the afternoon. The cricket game starts early on Sunday.\n\nCamp the night on Saturday\, and you won’t go hungry with onsite catering (outback style) and refreshments at the bar.\n\nPlease note 2024 Dates to be confirmed.
LOCATION:\, Betoota Racecourse Road Betoota\, Birdsville\, QLD 4482\, QLD\, 4482
RRULE:FREQ=DAILY;INTERVAL=1;UNTIL=20240701T000000Z
END:VEVENT
END:VCALENDAR
