BEGIN:VCALENDAR
VERSION:2.0
PRODID:-//My Community Diary//iCal Event//EN
CALSCALE:GREGORIAN
METHOD:PUBLISH
BEGIN:VEVENT
UID:3aa3317d-7672-4736-88ea-4ff4491a986c
DTSTAMP:20260424T160512Z
DTSTART:20240701T000000Z
DTEND:20240701T235959Z
SUMMARY:Bedourie Campdraft\, Rodeo\, Gymkhana
DESCRIPTION:Perched on a sand dune and surrounded by Eyre Creek\, soak up all the action and speed of the country’s best horse and bull riders in Bedourie. \n\nA township home to 120 locals and in the local indigenous language means ‘dust storm’\, stand ringside with hundreds\, who flock to appreciate precision\, agility\, and tight teamwork at its very best. The locals love showcasing their amazing talents for you to enjoy!\n\nPlease note 2024 dates to be confirmed.\n\nEntry Cost\nAdult $20  - Under 18 free entry
LOCATION:\, Racecourse Road\, Bedourie\, QLD 4829\, QLD\, 4829
RRULE:FREQ=DAILY;INTERVAL=1;UNTIL=20240722T000000Z
END:VEVENT
END:VCALENDAR
