BEGIN:VCALENDAR
VERSION:2.0
PRODID:-//My Community Diary//iCal Event//EN
CALSCALE:GREGORIAN
METHOD:PUBLISH
BEGIN:VEVENT
UID:1f70ece2-2362-48da-a148-51b7ebeb7481
DTSTAMP:20260424T160517Z
DTSTART:20230304T000000Z
DTEND:20230304T235959Z
SUMMARY:Beach Arts Music - BAM Markets
DESCRIPTION:Beach Arts Music (BAM Markets) is a free community event held on the first Saturday of every month except January and February from 2 pm to 7 pm at Millennium Esplanade\, Tannum Sands. \n\nFeaturing food stalls\, live entertainment\, arts and creation stalls and lots more\, BAM is an awesome family-friendly outing. So don't forget to bring your picnic rugs\, chairs and eskies!\n\nImages provided by The Gladstone Observer.
LOCATION:\, Millennium Esplanade\, Tannum Sands\, QLD 4680\, QLD\, 4680
RRULE:FREQ=MONTHLY;INTERVAL=1;BYDAY=3MO;UNTIL=20240204T000000Z
END:VEVENT
END:VCALENDAR
