BEGIN:VCALENDAR
VERSION:2.0
PRODID:-//My Community Diary//iCal Event//EN
CALSCALE:GREGORIAN
METHOD:PUBLISH
BEGIN:VEVENT
UID:8e284d13-e8d6-485c-8a28-c10e8c8d7a3f
DTSTAMP:20260421T225614Z
DTSTART;VALUE=DATE:20260729
DTEND;VALUE=DATE:20260730
SUMMARY:Christmas in July Luncheon Cruise
DESCRIPTION:Come and experience all the fun and joy of Christmas early this year with Nova Cruises. \n\nEscape the cold weather with a hot Christmas themed lunch. Enjoy live entertainment\, Christmas carols\, bon bons and more!\n\nEntry Cost\nAdult $85 \nConcession $80 \nChild $60 
LOCATION:\, 5 Honeysuckle Drive\, Newcastle\, NSW 2300\, NSW\, 2300
RRULE:FREQ=DAILY;INTERVAL=1;UNTIL=20260731T000000Z
END:VEVENT
END:VCALENDAR
