BEGIN:VCALENDAR
VERSION:2.0
PRODID:-//My Community Diary//iCal Event//EN
CALSCALE:GREGORIAN
METHOD:PUBLISH
BEGIN:VEVENT
UID:a28defe9-8b6b-4ee9-a751-4e98e9af63a1
DTSTAMP:20260422T021757Z
DTSTART;VALUE=DATE:20260715
DTEND;VALUE=DATE:20260716
SUMMARY:Christmas in July Luncheon Cruise
DESCRIPTION:Come and experience all the fun and joy of Christmas early this year with Nova Cruises. \n\nEscape the cold weather with a hot Christmas themed lunch. Enjoy live entertainment\, Christmas carols\, bon bons and more!\n\nEntry Cost\nAdult $85 \nConcession $80 \nChild $60 
LOCATION:\, 5 Honeysuckle Drive\, Newcastle\, NSW 2300\, NSW\, 2300
RRULE:FREQ=DAILY;INTERVAL=1;UNTIL=20260717T000000Z
END:VEVENT
END:VCALENDAR
