BEGIN:VCALENDAR
VERSION:2.0
PRODID:-//My Community Diary//iCal Event//EN
CALSCALE:GREGORIAN
METHOD:PUBLISH
BEGIN:VEVENT
UID:a55b140d-7339-40ac-9bcb-1619afe1f11e
DTSTAMP:20260422T032934Z
DTSTART;VALUE=DATE:20260702
DTEND;VALUE=DATE:20260703
SUMMARY:Christmas in July Luncheon Cruise
DESCRIPTION:Come and experience all the fun and joy of Christmas early this year with Nova Cruises. \n\nEscape the cold weather with a hot Christmas themed lunch. Enjoy live entertainment\, Christmas carols\, bon bons and more!\n\nEntry Cost\nAdult $85 \nConcession $80 \nChild $60 
LOCATION:\, 5 Honeysuckle Drive\, Newcastle\, NSW 2300\, NSW\, 2300
RRULE:FREQ=DAILY;INTERVAL=1;UNTIL=20260704T000000Z
END:VEVENT
END:VCALENDAR
