BEGIN:VCALENDAR
VERSION:2.0
PRODID:-//My Community Diary//iCal Event//EN
CALSCALE:GREGORIAN
METHOD:PUBLISH
BEGIN:VEVENT
UID:da50328f-944d-4778-a0d4-39098daab748
DTSTAMP:20260421T224153Z
DTSTART;VALUE=DATE:20261016
DTEND;VALUE=DATE:20261017
SUMMARY:Canberra Art Biennial
DESCRIPTION:Canberra Art Biennial presents contemporary public art across the designed landscape of Kamberri/Canberra. Beginning in 2016\, the festival will return for its 6th edition in 2026. Programmed by Creative Producer\, Tegan Garnett\, the festival invites artists from across Australia and internationally to present commentary on place\, connection and life.\n\nThey acknowledge that the city and wider landscape they know as Canberra\, has always been a meeting place for the sharing of culture and knowledge by one of the oldest continuing cultures.
LOCATION:\, Queen Elizabeth Terrace\, Parkes\, ACT 2600\, ACT\, 2600
RRULE:FREQ=DAILY;INTERVAL=1;UNTIL=20261018T000000Z
END:VEVENT
END:VCALENDAR
