BEGIN:VCALENDAR
VERSION:2.0
PRODID:-//My Community Diary//iCal Event//EN
CALSCALE:GREGORIAN
METHOD:PUBLISH
BEGIN:VEVENT
UID:75b973af-323c-4dc1-9ac5-2707e16ec002
DTSTAMP:20260422T000658Z
DTSTART;VALUE=DATE:20260614
DTEND;VALUE=DATE:20260615
SUMMARY:Polymer Clay Necklace Set Workshop
DESCRIPTION:Looking to unleash your creativity and get your hands dirty? Join for a practical polymer clay workshop where you'll learn the ins and outs of this versatile medium.\n\nIn this class\, you'll discover how to mould\, shape and design your own unique clay creations\, and make a pairof  earrings and necklaces. Laugh and have a great time creating\, accompanied by good coffee and a bagel of your choice.\n\nDon't worry if you're a beginner – an experienced instructor will guide you every step of the way\, making the process fun and stress-free\, and all materials are provided.\n\nEntry Cost\nAll tickets $95 
LOCATION:\, 838 Collins Street shop 6\, Docklands\, VIC 3008\, VIC\, 3008
RRULE:FREQ=DAILY;INTERVAL=1;UNTIL=20260616T000000Z
END:VEVENT
END:VCALENDAR
