BEGIN:VCALENDAR
VERSION:2.0
PRODID:-//My Community Diary//iCal Event//EN
CALSCALE:GREGORIAN
METHOD:PUBLISH
BEGIN:VEVENT
UID:7a64cfd6-e10a-494a-8aca-7ee0441983df
DTSTAMP:20260424T181354Z
DTSTART:20220608T170000Z
DTEND:20220608T220000Z
SUMMARY:Art After Hours
DESCRIPTION:Every Wednesday night\, wander through the Art Gallery after hours and discover new art and old favourites in the latest exhibitions and collection displays. Join a guided tour\, enjoy a drink or a bite to eat in the cafe.\n\nGallery open until 10pm*\nCafe and restaurant open until 10pm\nGallery Shop open until 8.45pm\n\n*Some galleries and exhibitions will be closed from 9pm\n\nCourtesy bus runs every 20mins from 6pm until closing from the Art Gallery to various locations in the city close to public transport.
LOCATION:\, Art Gallery Road\, Sydney\, NSW 2000\, NSW\, 2000
RRULE:FREQ=WEEKLY;INTERVAL=1;BYDAY=WE;UNTIL=20240104T000000Z
END:VEVENT
END:VCALENDAR
