BEGIN:VCALENDAR
VERSION:2.0
PRODID:-//My Community Diary//iCal Event//EN
CALSCALE:GREGORIAN
METHOD:PUBLISH
BEGIN:VEVENT
UID:e25b58ab-5cb2-48a3-9ed6-033b26328aeb
DTSTAMP:20260424T125710Z
DTSTART;TZID=AUS Eastern Standard Time:20190414T120000
DTEND;TZID=AUS Eastern Standard Time:20190414T160000
SUMMARY:Selected Spaces.  Settling the Ginnderra District
DESCRIPTION:In the 1860's and 1870's - long before the suburbs came\, "selectors" chose blocks of land to build a home and a farm\, and gradually a community.&nbsp\; Early maps and plans will help show how six pioneering families made Ginninderra home - before it was all taken from them.&nbsp\; The stories of these settler families are well illustrated with photographs\, maps and plans.&nbsp\;\n\nThe exhibition will be opened by historian Dr Barbara Dawson\, at 11 am on Sunday 14 April and will then continue every&nbsp\;Sunday afternoon and Thursday morning.&nbsp\;\n
LOCATION:Hall School Museum and Heritage Centre\, Victoria Street\, Hall ACT 2618\, ACT\, 2618
RRULE:FREQ=WEEKLY;INTERVAL=1;BYDAY=SU
END:VEVENT
END:VCALENDAR
