BEGIN:VCALENDAR
VERSION:2.0
PRODID:-//My Community Diary//iCal Event//EN
CALSCALE:GREGORIAN
METHOD:PUBLISH
BEGIN:VEVENT
UID:aca46574-66d5-496f-bfb3-80b9b2913cb9
DTSTAMP:20260424T160510Z
DTSTART:20200223T000000Z
DTEND:20200223T235959Z
SUMMARY:Yamba River Markets
DESCRIPTION:The Yamba River Markets are on the fourth Sunday of the month\, located at Ford Park on the foreshores of the beautiful\, scenic Clarence River.\n\nThere's always something new at the Yamba River Markets\, which feature around 120 stalls\, and more in the peak seasons.  It's the best way to spend a Sunday morning in the beautiful coastal town of Yamba. \n\nThe stalls range from fresh fruit and vegetables\, plants\, plenty of food stalls including Asian  foods\, second hand furniture\, books\, jewellery\, clothing\, arts and craft among many others.  \n\nThe market features local and regional food and provides free live entertainment\, showcasing local emerging talent as well as touring bands and musicians in a village atmosphere.\n\n
LOCATION:\, River Street\, Yamba\, NSW 2464\, NSW\, 2464
RRULE:FREQ=MONTHLY;INTERVAL=1;BYDAY=3MO;UNTIL=20240325T000000Z
END:VEVENT
END:VCALENDAR
