BEGIN:VCALENDAR
VERSION:2.0
PRODID:-//My Community Diary//iCal Event//EN
CALSCALE:GREGORIAN
METHOD:PUBLISH
BEGIN:VEVENT
UID:0dfcf51f-c9bb-414c-9757-683b47b4abc2
DTSTAMP:20260422T021750Z
DTSTART;TZID=E. Australia Standard Time:20250123T181500
DTEND;TZID=E. Australia Standard Time:20250123T191500
SUMMARY:The Jungle Body Burn Tyga Jagua
DESCRIPTION:The&nbsp\;Jungle Body&nbsp\;is an Australian-based fitness and exercise company offering a range of unique\, sweat-inducing and beat-driven workouts.\n\nTYGA®&nbsp\;is a sexy choreographed hip hop\, dancehall and afro based workout that combines easy-to-follow dance moves with fitness concepts.&nbsp\;Medium complexity and medium intensity with lower options given\, therefore suitable for all fitness levels.\n\nJAGUA®&nbsp\;takes its inspiration from ballet\, pilates and yoga to improve your flexibility\, muscle strength\, tone &amp\; endurance. This empowering body-defining workout is set to music from all decades to flood your soul with feel-good vibes.&nbsp\;\n
LOCATION:St. John's Lutheran Church Hall\, 431 Bridge Street\, Wilsonton Toowoomba\, QLD\, Australia\, QLD\, 4350
RRULE:FREQ=WEEKLY;INTERVAL=1;BYDAY=TH
END:VEVENT
END:VCALENDAR
