BEGIN:VCALENDAR
VERSION:2.0
PRODID:-//My Community Diary//iCal Event//EN
CALSCALE:GREGORIAN
METHOD:PUBLISH
BEGIN:VEVENT
UID:5195e9d8-c557-4a79-bc03-927fd8d68bf0
DTSTAMP:20260424T155902Z
DTSTART:20230923T103000Z
DTEND:20230923T153000Z
SUMMARY:Mosaic Workshop Weekend with Leadlight By Ettore
DESCRIPTION:Come and try your hand at making a mosaic wall plaque.\n\nWorking with a pre-made form you will learn to trace the patterns onto glass\, before learning to cut and refine the pieces with a grinder. You will also use glass tiles to create accents and learn how to use mosaic cutters to shape them. Participants will then use the direct method to create a mosaic.\n\nOnce dried participants will grout and then finally learn to clean their mosaics ready to take home. It will need to be stored inside for one-two weeks while the grout cures\, then it can be displayed outside.\n\nThe class will run in two sessions to allow for drying time between processes\;\nSession 1: 10:30am- 3:30pm Saturday\nSession 2: 10:30am - 12.30 or until project is finished on Sunday \n\nLunch will be provided on the first day using all local organic produce. You will also be provided with a divine treat on the second day and tea and coffee facilities are available throughout the course. It is anticipated that participants will be completed in time to check out one of the great local cafes for a late lunch on Sunday.\n\nEntry Cost\nAll tickets $235  - Bring a Friend and save!
LOCATION:\, 52-56 Mollison Street\, Kyneton\, VIC 3444\, VIC\, 3444
RRULE:FREQ=DAILY;INTERVAL=1;UNTIL=20240311T000000Z
END:VEVENT
END:VCALENDAR
