BEGIN:VCALENDAR
VERSION:2.0
PRODID:-//My Community Diary//iCal Event//EN
CALSCALE:GREGORIAN
METHOD:PUBLISH
BEGIN:VEVENT
UID:1e304fb7-0310-44ba-b9a8-68ccaecf007c
DTSTAMP:20260421T205501Z
DTSTART;VALUE=DATE:20260505
DTEND;VALUE=DATE:20260506
SUMMARY:Holden Heroes
DESCRIPTION:Holden’s finest and most important machines\, never before seen under one roof!\n\nHolden Heroes: 1948 to 2017 a retrospective is a showcase of 18 of the most special vehicles from Holden’s Heritage Collection on display at the National Motor Museum.\n\nThe National Motor Museum has partnered with General Motors to exhibit some of Australia’s most significant motoring history.\n\nOn display are the amazing Hurricane (1969)\; the unique Torana GTR-X (1970) and the fantastic and brave design of the EFIJY (2005) . There is also the Number One Holden (1948) and the very last Australian made Holden\, a VF Commodore Series II SS Redline (2017) as well as the significant ‘millionth’ vehicles produced by Holden.\n\nHolden has a wider collection of historic and contemporary vehicles and engines which will be displayed in other museums at Trafalgar (Vic)\, Echuca (Vic)\, Winton (Vic)\, Shepparton (Vic)\, Mildura (Vic)\, Maffra (Vic)\, Bathurst (NSW)\, Whiteman Park (WA) and Elizabeth (SA) as well as arrangements with other Australian institutions for the wide range of materials other than vehicles that are part of Holden and now Australia’s history.
LOCATION:\, Shannon Street\, Birdwood\, SA 5234\, SA\, 5234
RRULE:FREQ=DAILY;INTERVAL=1;UNTIL=20260507T000000Z
END:VEVENT
END:VCALENDAR
