BEGIN:VCALENDAR
VERSION:2.0
PRODID:-//My Community Diary//iCal Event//EN
CALSCALE:GREGORIAN
METHOD:PUBLISH
BEGIN:VEVENT
UID:d5af40cf-dcf7-4643-bbb6-16f620a778f9
DTSTAMP:20260424T164512Z
DTSTART:20230128T080000Z
DTEND:20230128T090000Z
SUMMARY:Nepean River Parkrun
DESCRIPTION:It's a 5-kilometre run - you against the clock! A great way to see the Nepean River and get some exercise.\n\nParkrun is a free\, weekly 5 kilometre timed run for runners and walkers of all ages and abilities\, held in locations across the world. For your timed result to be recorded\, register once for free and bring a copy of your unique barcode with you when you turn up to park run.\n\nParkrun is not a race\, but a relaxed\, friendly activity - run with your pram\, run with your dog\, run with friends\, run to beat your last run! Parkrun is sweeping Australia\, and the Parkrun community is very social - participants are all invited to catch up after the run for a coffee.\n\nThe course is 5000m (5 kiloemtre) long. The course is run on a mixture of concrete paths\, bitumen paths and grass. Some sections of the course may accumulate mud\, leaves and puddles after rain. Dependent on availability\, marshals will be at key sections of the course\, or signs will be in place.\n\nOccurs every Saturday rain hail or shine. Check the Nepean River Parkrun Facebook page for updates.
LOCATION:\, Tench Avenue\, Jamisontown\, NSW 2750\, NSW\, 2750
RRULE:FREQ=WEEKLY;INTERVAL=1;BYDAY=SA;UNTIL=20240128T000000Z
END:VEVENT
END:VCALENDAR
