BEGIN:VCALENDAR
VERSION:2.0
PRODID:-//My Community Diary//iCal Event//EN
CALSCALE:GREGORIAN
METHOD:PUBLISH
BEGIN:VEVENT
UID:15610137-b10a-403f-adb7-3c37acabe348
DTSTAMP:20260423T101756Z
DTSTART;TZID=AUS Eastern Standard Time:20190302T151500
DTEND;TZID=AUS Eastern Standard Time:20190302T171500
SUMMARY:Taiwanese Mandarin Kids Language Class
DESCRIPTION:Kids class\n\nEntry level\n\n3:15 – 5:15pm every Saturday\n\nContinuous Class\n\n1:15 – 3:15 pm every Sunday\n
LOCATION:Taiwanese Association of Canberra\, Australia (TACA)\, 180 London Circuit\, Canberra ACT 2601\, ACT\, 2601
RRULE:FREQ=WEEKLY;INTERVAL=1;BYDAY=SA
END:VEVENT
END:VCALENDAR
