BEGIN:VCALENDAR
VERSION:2.0
PRODID:-//My Community Diary//iCal Event//EN
CALSCALE:GREGORIAN
METHOD:PUBLISH
BEGIN:VEVENT
UID:f2b0f1f9-6d32-4a75-a9ee-807cc32c598d
DTSTAMP:20260421T222858Z
DTSTART;TZID=AUS Eastern Standard Time:20190225T173000
DTEND;TZID=AUS Eastern Standard Time:20190225T190000
SUMMARY:Polyglot Weekly Conversation Group
DESCRIPTION:Weekly conversation groups\n\nConversation groups in French\, Spanish\, German and Danish.\n\nWe meet each Monday evening at the ANU except for public holidays and we take a break from late December to the end of January.\n\nLook for us in the Graduate Lounge at the Cellar Bar\, University House or in the beer garden when the weather is fine in summer. The groups meet between 5.30 and 7pm.\n
LOCATION:Polyglot Club\, 1 Balmain Crescent\, Acton ACT 2601\, ACT\, 2601
RRULE:FREQ=WEEKLY;INTERVAL=1;BYDAY=MO
END:VEVENT
END:VCALENDAR
