BEGIN:VCALENDAR
VERSION:2.0
PRODID:-//My Community Diary//iCal Event//EN
CALSCALE:GREGORIAN
METHOD:PUBLISH
BEGIN:VEVENT
UID:fd748b02-1bdc-4aaa-80e3-bc96d0054d37
DTSTAMP:20260422T083347Z
DTSTART;TZID=AUS Eastern Standard Time:20190318T183000
DTEND;TZID=AUS Eastern Standard Time:20190318T220000
SUMMARY:Pondelní Pivo Czech Beer On Monday
DESCRIPTION:Every third Monday of each month 6:30-10 pm:&nbsp\;Have a friendly chat and practise your Czech or Slovak with a beer in&nbsp\;King O'Malley's restaurant\, Canberra.\n
LOCATION:\, King O'Malley's\, City Walk\, Canberra ACT\, Australia\, ACT\, 2601
RRULE:FREQ=MONTHLY;INTERVAL=1;BYDAY=3MO
END:VEVENT
END:VCALENDAR
