BEGIN:VCALENDAR
VERSION:2.0
PRODID:-//My Community Diary//iCal Event//EN
CALSCALE:GREGORIAN
METHOD:PUBLISH
BEGIN:VEVENT
UID:6c96b48e-e9ea-4cc2-ba4c-d399527852ec
DTSTAMP:20260421T205344Z
DTSTART;TZID=AUS Eastern Standard Time:20190302T093000
DTEND;TZID=AUS Eastern Standard Time:20190302T123000
SUMMARY:Canberra Korean School of Education
DESCRIPTION:Canberra Korean School of&nbsp\;Education\n\nEvery Saturday 9.30am – 12.30pm\n\nANU School of Language Studies\, Ellery Crescent ACTON\,\nBuilding: BPB110\n\nEnrolment fee $50 per family\, tuition fee $110/term\n\nPre – Kindergarten 1 class\, Primary 3 classes\, Secondary 1 class\n
LOCATION:Canberra Korean School of Education\, Canberra ACT 0200\, ACT\, 0200
RRULE:FREQ=WEEKLY;INTERVAL=1;BYDAY=SA
END:VEVENT
END:VCALENDAR
