BEGIN:VCALENDAR
VERSION:2.0
PRODID:-//My Community Diary//iCal Event//EN
CALSCALE:GREGORIAN
METHOD:PUBLISH
BEGIN:VEVENT
UID:4979e130-606a-44ba-bf63-24bf27b40f0c
DTSTAMP:20260422T014624Z
DTSTART;TZID=AUS Eastern Standard Time:20190304T193000
DTEND;TZID=AUS Eastern Standard Time:20190304T213000
SUMMARY:Canberra Celtic Choir Rehearsal
DESCRIPTION:The Canberra Celtic Choir was established in 1992 for people who enjoy singing traditional Celtic music. Our repertoire is sung a capella and is drawn from the music of Ireland\, Scotland and Wales. English and Gaelic lyrics are used and songs are sung in unison as well as two and four part harmony.&nbsp\;\n\nUnder the direction of Julie Hesse\, the choir is an eclectic blend of ages\, genders and backgrounds who have a relaxed attitude and welcome newcomers. It is not essential to be a great soprano or tenor to be a part of the Canberra Celtic Choir. The Choir meets every Monday night from 7.30pm at the Canberra Irish Club and you're welcome to come along.\n
LOCATION:Canberra Irish Club\, 6 Parkinson Street\, Weston ACT 2611\, ACT\, 2611
RRULE:FREQ=WEEKLY;INTERVAL=1;BYDAY=MO
END:VEVENT
END:VCALENDAR
