BEGIN:VCALENDAR
VERSION:2.0
PRODID:-//My Community Diary//iCal Event//EN
CALSCALE:GREGORIAN
METHOD:PUBLISH
BEGIN:VEVENT
UID:fe6e8acf-bcc0-4514-88c6-28f3d4b3a1fa
DTSTAMP:20260424T154952Z
DTSTART;TZID=E. Australia Standard Time:20210224T093000
DTEND;TZID=E. Australia Standard Time:20210224T113000
SUMMARY:Wednesday Play2Learn
DESCRIPTION:Play2Learn playgroup is a fun time for you to share with your child. Play2Learn gives your child the chance to learn\, grow and prepare for school. All families with children aged 0 - 5 years are welcome to attend. Parents/guardians are required to supervise their child throughout playgroup.\n\nLocated at Wondoo Park\, Gladstone Marina.\n\nThis playgroup runs every Wednesday within the school term.\n
LOCATION:\, Gladstone Marina\, Bryan Jordan Drive\, Gladstone Central QLD\, Australia\, QLD\, 4680
RRULE:FREQ=WEEKLY;INTERVAL=1;BYDAY=WE
END:VEVENT
END:VCALENDAR
