BEGIN:VCALENDAR
VERSION:2.0
PRODID:-//My Community Diary//iCal Event//EN
CALSCALE:GREGORIAN
METHOD:PUBLISH
BEGIN:VEVENT
UID:1f1fb1a1-73d9-4455-b2e9-d7cddba67ea4
DTSTAMP:20260424T164510Z
DTSTART;TZID=W. Australia Standard Time:20190227T123000
DTEND;TZID=W. Australia Standard Time:20190227T143000
SUMMARY:Seniors Badminton
DESCRIPTION:For over 55's:&nbsp\; Join this all-inclusive badminton class\, stay active and connect with new people.&nbsp\; All levels welcome.\n\nMonday and Wednesday's 12.30pm - 2.30pm\n\n$8.30 per session or $74.70 x 10 sessions\n\n(not held on public holidays)\n
LOCATION:City of Fremantle - Samson Recreation Centre\, 44 McCombe Avenue\, Samson WA 6163\, WA\, 6163
RRULE:FREQ=WEEKLY;INTERVAL=1;BYDAY=MO,WE
END:VEVENT
END:VCALENDAR
