BEGIN:VCALENDAR
VERSION:2.0
PRODID:-//My Community Diary//iCal Event//EN
CALSCALE:GREGORIAN
METHOD:PUBLISH
BEGIN:VEVENT
UID:17a1e1cd-0f4f-45a8-8f82-2b2a2881f6a2
DTSTAMP:20260424T164512Z
DTSTART;TZID=W. Australia Standard Time:20190311T100000
DTEND;TZID=W. Australia Standard Time:20190311T110000
SUMMARY:Hatha Yoga for over 55's
DESCRIPTION:Hatha Yoga is the gentle practice of physical postures\, breathing and mediation with the goal of bringing about a sound\, healthy body and a clear\, peaceful mind.&nbsp\; All levels welcome.\n\n(Not held during school holidays or public holidays)\n\nMonday's 10am - 11.00am\n\n$13.90 per session\n
LOCATION:City of Fremantle - Samson Recreation Centre\, 44 McCombe Avenue\, Samson WA 6163\, WA\, 6163
RRULE:FREQ=WEEKLY;INTERVAL=1;BYDAY=MO
END:VEVENT
END:VCALENDAR
