BEGIN:VCALENDAR
VERSION:2.0
PRODID:-//My Community Diary//iCal Event//EN
CALSCALE:GREGORIAN
METHOD:PUBLISH
BEGIN:VEVENT
UID:31cbc4ce-9532-40c9-b6b7-908cea5a8086
DTSTAMP:20260424T160634Z
DTSTART;TZID=E. Australia Standard Time:20190226T100000
DTEND;TZID=E. Australia Standard Time:20190226T110000
SUMMARY:Tech Talks
DESCRIPTION:Dilemma with a device?\n\nAre there just one or two things confusing you about your phone\, tablet or other device? Come to a free Tech Talk and we’ll figure it out together.\n\nGordon White Library\nEvery Tuesday from 10am - 11am\n\nDudley Denny City Library\nEvery Thursday from 10am - 11am\n\nSarina Library\nTech Talks available by appointment.\nPlease call 4961 9387.\n
LOCATION:Gordon White Library\, 54 Phillip Street\, Mount Pleasant QLD 4740\, QLD\, 4740
RRULE:FREQ=WEEKLY;INTERVAL=1;BYDAY=TU
END:VEVENT
END:VCALENDAR
