BEGIN:VCALENDAR
VERSION:2.0
PRODID:-//My Community Diary//iCal Event//EN
CALSCALE:GREGORIAN
METHOD:PUBLISH
BEGIN:VEVENT
UID:6a79d5b4-0f65-4ec2-9af7-b731b459bb1a
DTSTAMP:20260424T164532Z
DTSTART:20230917T090000Z
DTEND:20230917T140000Z
SUMMARY:The Mount Martha Briars Market
DESCRIPTION:Situated at Mount Martha on the Mornington Peninsula\, the Briars is a beautiful property comprising of a wildlife sanctuary\, heritage homestead\, nursery\, eco-living display centre\, eco-camp\, eateries and astronomy centre.\n?\nVisitors will discover a range of home-made\, home-grown products\, all while exploring the beautiful grounds\, wildlife\, walking trails\, galleries and heritage homestead of the historic Briars.\n\nPurchase the freshest food\, the most unique gifts and the most innovative homewares from across the region and engage with the talented stallholders\, all of whom love their craft.?\n\nThe fun doesn't end when the market wraps up - why not make a day of it\, and when you’ve finished exploring the market's wares\, let your feet lead the way through the historic twists and turns of The Briars' walking trails.\n\nJoin in for these exciting new additions to the market program on the fourth Sunday of the month.
LOCATION:\, 450 Nepean Highway\, Mount Martha\, VIC 3934\, VIC\, 3934
RRULE:FREQ=DAILY;INTERVAL=1;UNTIL=20240311T000000Z
END:VEVENT
END:VCALENDAR
