BEGIN:VCALENDAR
VERSION:2.0
PRODID:-//My Community Diary//iCal Event//EN
CALSCALE:GREGORIAN
METHOD:PUBLISH
BEGIN:VEVENT
UID:6cbd59d6-20c8-432a-a93a-a0664d32eeed
DTSTAMP:20260424T164402Z
DTSTART:20240224T000000Z
DTEND:20240224T235959Z
SUMMARY:Bendigo Bank Tumbafest
DESCRIPTION:On the last weekend in February of each year since 1997\, the township of Tumbarumba plays host to 'Bendigo Bank Tumbafest' - a celebration of music\, wine and food. \n\nTruly a celebration of country lifestyle\, this two-day Festival is overflowing with country hospitality. Attractions include a jam-packed schedule of Main Stage entertainment\, sublime local wines and tastings\, food stalls\, market stalls\, as well as activities and entertainment for children. \n\nTumbafest continues to grow each year and has become a fixed event on many local and visitor's calendars. \n\nA showcase for the region\, Tumbafest is the culmination of a community's effort to deliver a first-class visitor experience.
LOCATION:\, Hammonds Lane\, Tumbarumba\, NSW 2653\, NSW\, 2653
RRULE:FREQ=DAILY;INTERVAL=1;UNTIL=20240226T000000Z
END:VEVENT
END:VCALENDAR
