BEGIN:VCALENDAR
VERSION:2.0
PRODID:-//My Community Diary//iCal Event//EN
CALSCALE:GREGORIAN
METHOD:PUBLISH
BEGIN:VEVENT
UID:1dcd6734-2fc1-4952-bb1b-dd04760ad6da
DTSTAMP:20260422T020911Z
DTSTART;VALUE=DATE:20260924
DTEND;VALUE=DATE:20260925
SUMMARY:Saltbush Country | Lobethal
DESCRIPTION:Saltbush Country provides a rare opportunity for audiences across regional South Australia to experience the works and worldviews of Aboriginal women artists practising independently in the state. In this statewide touring exhibition\, seven regional artists tell stories of their culture\, community and connection to Country. Often personal and occasionally raw\, their work reflects the world as seen through their eyes – a contemporary articulation of Aboriginal life in regional South Australia.\n\nSaltbush Country\, curated by Tarnanthi Regional Curator Marika Davies\, was one of the highlight exhibitions of Tarnanthi 2023 when it was presented at Port Pirie Regional Art Gallery and in Adelaide at the Kerry Packer Civic Gallery at the Hawke Centre\, UniSA City West campus.\n\nArtists: Josephine Lennon\, Marli Macumba\, Juanella McKenzie\, Deanna Newchurch\, Lynette Newchurch\, Sandra Saunders\, Heather Shearer\n\nThe artists’ works are the result of a series of community workshops\, mentoring and professional development opportunities catering for prominent regional artists and supported by Country Arts SA and Tarnanthi.
LOCATION:\, 1 Lobethal Road\, Lobethal\, SA 5241\, SA\, 5241
RRULE:FREQ=DAILY;INTERVAL=1;UNTIL=20260926T000000Z
END:VEVENT
END:VCALENDAR
