BEGIN:VCALENDAR
VERSION:2.0
PRODID:-//My Community Diary//iCal Event//EN
CALSCALE:GREGORIAN
METHOD:PUBLISH
BEGIN:VEVENT
UID:ba3dcf85-0f31-47ef-8a10-f1fa25755425
DTSTAMP:20260424T164402Z
DTSTART:20240302T000000Z
DTEND:20240302T235959Z
SUMMARY:Tottenham Picnic Races
DESCRIPTION:Enjoy the best of country hospitality at one of the Central West's leading country picnic race meets at the Tottenham Picnic Races..\n\nAs part of the off-track attractions\, the annual Fashions on the Field contest will be held. With several fashion titles up for grabs\, it is sure to attract the most stylish of race goers. Distinguished judges will cast their vote on the day and winners will be awarded fabulous prizes for their flair.
LOCATION:\, Racecourse Road\, Tottenham\, NSW 2873\, NSW\, 2873
END:VEVENT
END:VCALENDAR
