BEGIN:VCALENDAR
VERSION:2.0
PRODID:-//My Community Diary//iCal Event//EN
CALSCALE:GREGORIAN
METHOD:PUBLISH
BEGIN:VEVENT
UID:8e2c9b99-9110-4c41-9d7a-e9bd8f8dae3d
DTSTAMP:20260424T160511Z
DTSTART:20240510T090000Z
DTEND:20240510T160000Z
SUMMARY:Riverina Field Days
DESCRIPTION:The Riverina Field Days is an annual ag field day\, showcasing quality machinery and agricultural exhibitors as well as family and kids attractions\, entertainment\, food\, unique demonstrations.  The Riverina Field Days showcase the best farming practices and technology from across a wide range of industries. Attracting approx 10\,000 people each year with around 200 Exhibitors.\n\nEntry Cost\nAdult $10 \nConcession $5 \nChild $5  - Children aged 12+\nChild $0  - Children under 12 free\nFamily $25  - Two Adults\, Two Children
LOCATION:\, 12 Murrumbidgee Avenue\, Griffith\, NSW 2680\, NSW\, 2680
RRULE:FREQ=DAILY;INTERVAL=1;UNTIL=20240512T000000Z
END:VEVENT
END:VCALENDAR
