BEGIN:VCALENDAR
VERSION:2.0
PRODID:-//My Community Diary//iCal Event//EN
CALSCALE:GREGORIAN
METHOD:PUBLISH
BEGIN:VEVENT
UID:f455b347-bac2-484e-a1f5-81a116289bc0
DTSTAMP:20260424T160511Z
DTSTART:20230204T080000Z
DTEND:20230204T120000Z
SUMMARY:Tilba Market
DESCRIPTION:When you visit the charming historic township of Central Tilba on a Saturday morning you can't go past the Tilba Market held in the Big Hall every week.\n\nThere is a variety of stalls selling a range of products including fresh fruit and vegetables\, free range eggs\, local honey\, jams and preserves\, delicious baked treats\, plus much more.
LOCATION:\, 3A Bate Street\, Central Tilba\, NSW 2546\, NSW\, 2546
RRULE:FREQ=WEEKLY;INTERVAL=1;BYDAY=SA;UNTIL=20240204T000000Z
END:VEVENT
END:VCALENDAR
