BEGIN:VCALENDAR
VERSION:2.0
PRODID:-//My Community Diary//iCal Event//EN
CALSCALE:GREGORIAN
METHOD:PUBLISH
BEGIN:VEVENT
UID:c6ad9467-b9c1-44b0-bb0c-4970a7b00809
DTSTAMP:20260422T032038Z
DTSTART;VALUE=DATE:20261004
DTEND;VALUE=DATE:20261005
SUMMARY:Killarney Country  Markets
DESCRIPTION:Killarney Country Markets is a country market that is a tourist attraction with local honey\, plants from border botanical\, embroidery from Elrays\, and many more\, over 20 stalls and growing. \n\nWell worth the day's visit and not only that a whole town to explore a cold one at the pub or the local bowls club\, arts and craft galleries. \n\nPop up stall in the main street\, Cafe 27 has  wonderful food\, this is a must for your calendar!
LOCATION:\, Canning Street\, Killarney\, QLD 4373\, QLD\, 4373
RRULE:FREQ=DAILY;INTERVAL=1;UNTIL=20261006T000000Z
END:VEVENT
END:VCALENDAR
