BEGIN:VCALENDAR
VERSION:2.0
PRODID:-//My Community Diary//iCal Event//EN
CALSCALE:GREGORIAN
METHOD:PUBLISH
BEGIN:VEVENT
UID:0c9e496b-3f02-4182-9db0-351f4f88fa28
DTSTAMP:20260422T000649Z
DTSTART;VALUE=DATE:20260803
DTEND;VALUE=DATE:20260804
SUMMARY:Killarney Country  Markets
DESCRIPTION:Killarney Country Markets is a country market that is a tourist attraction with local honey\, plants from border botanical\, embroidery from Elrays\, and many more\, over 20 stalls and growing. \n\nWell worth the day's visit and not only that a whole town to explore a cold one at the pub or the local bowls club\, arts and craft galleries. \n\nPop up stall in the main street\, Cafe 27 has  wonderful food\, this is a must for your calendar!
LOCATION:\, Canning Street\, Killarney\, QLD 4373\, QLD\, 4373
RRULE:FREQ=DAILY;INTERVAL=1;UNTIL=20260805T000000Z
END:VEVENT
END:VCALENDAR
