BEGIN:VCALENDAR
VERSION:2.0
PRODID:-//My Community Diary//iCal Event//EN
CALSCALE:GREGORIAN
METHOD:PUBLISH
BEGIN:VEVENT
UID:1615a64a-2f3c-44e1-bf1c-5e96f18ea9d9
DTSTAMP:20260422T032038Z
DTSTART;VALUE=DATE:20260702
DTEND;VALUE=DATE:20260703
SUMMARY:Killarney Country  Markets
DESCRIPTION:Killarney Country Markets is a country market that is a tourist attraction with local honey\, plants from border botanical\, embroidery from Elrays\, and many more\, over 20 stalls and growing. \n\nWell worth the day's visit and not only that a whole town to explore a cold one at the pub or the local bowls club\, arts and craft galleries. \n\nPop up stall in the main street\, Cafe 27 has  wonderful food\, this is a must for your calendar!
LOCATION:\, Canning Street\, Killarney\, QLD 4373\, QLD\, 4373
RRULE:FREQ=DAILY;INTERVAL=1;UNTIL=20260704T000000Z
END:VEVENT
END:VCALENDAR
