BEGIN:VCALENDAR
VERSION:2.0
PRODID:-//My Community Diary//iCal Event//EN
CALSCALE:GREGORIAN
METHOD:PUBLISH
BEGIN:VEVENT
UID:ef65f2ad-ab79-4a4d-86e0-6218ccb372d2
DTSTAMP:20260422T000524Z
DTSTART;TZID=AUS Eastern Standard Time:20190201T103000
DTEND;TZID=AUS Eastern Standard Time:20190201T130000
SUMMARY:MLYCC cooking Circles
DESCRIPTION:Mura Lanyon Youth and Community Centre (MLYCC) cooking circles group provides community members an opportunity to grow their social connections\, develop and increase their confidence in the kitchen and provide healthy recipe options for people on a budget. Cooking Circles are held every 2nd Friday from 10:30am to 1pm\, the next group is 1 February 2019.\n\nCooking Circles Contact MLYCC Manager Katherine Higgins mlycc.manager@ywca-canberra.org.au 02 62944633\n
LOCATION:\, Sidney Nolan St\, Conder ACT\, Australia\, ACT\, 2906
RRULE:FREQ=MONTHLY;INTERVAL=1;BYMONTHDAY=1
END:VEVENT
END:VCALENDAR
