BEGIN:VCALENDAR
VERSION:2.0
PRODID:-//My Community Diary//iCal Event//EN
CALSCALE:GREGORIAN
METHOD:PUBLISH
BEGIN:VEVENT
UID:f356231b-3e30-438c-947b-8f2c7312a6bf
DTSTAMP:20260424T154952Z
DTSTART;TZID=E. Australia Standard Time:20190212T183000
DTEND;TZID=E. Australia Standard Time:20190212T203000
SUMMARY:Learn to Line Dance
DESCRIPTION:We are offering learn to Line Dance classes on each Tuesday evening from 6.30pm to 8pm. $10 Adults $5 Kids - under 10 free.\n\nNOTE: NO LESSONS on School Holidays&nbsp\;\n\nPlease always check the facebook page for cancellations. www.facebook.com/DowsCreekHall\n\n&nbsp\;\n
LOCATION:Dows Creek Hall Committee Inc\, 16 Bourkes Road Dows Creek\, Mirani QLD 4754\, QLD\, 4754
RRULE:FREQ=WEEKLY;INTERVAL=1;BYDAY=TU
END:VEVENT
END:VCALENDAR
