BEGIN:VCALENDAR
VERSION:2.0
PRODID:-//My Community Diary//iCal Event//EN
CALSCALE:GREGORIAN
METHOD:PUBLISH
BEGIN:VEVENT
UID:1a98b16d-50bc-4d72-93d2-5e1a3e34c984
DTSTAMP:20260424T155959Z
DTSTART;TZID=E. Australia Standard Time:20220622T090000
DTEND;TZID=E. Australia Standard Time:20220622T133000
SUMMARY:RSA [Responsible Service of Alcohol] course
DESCRIPTION:Before you apply for a job\, you need to make sure you are prepared. This includes having completed the required training for bar work. In QLD\, you are required to have a Responsible Service of Alcohol (RSA) certificate to legally sell\, serve and supply alcohol in the workplace.\n\nReceive quality face-to-face training with industry professionals.\n\nThis course is ideal for anyone who is currently employed in or is seeking employment in the hospitality\, bar and gaming industries.\n\nVENUE: 37 Nash Street\, Gympie\nCOST: $80\n\nFor more information or to secure a place contact the Regional Training team:\n\nP: 5481 2486\nE:admin@regionaltraining.qld.edu.au&nbsp\;&nbsp\;&nbsp\;&nbsp\;&nbsp\;&nbsp\;&nbsp\;&nbsp\;&nbsp\;&nbsp\;&nbsp\;&nbsp\;&nbsp\;&nbsp\;&nbsp\;&nbsp\;&nbsp\;&nbsp\;&nbsp\;&nbsp\;&nbsp\;&nbsp\;&nbsp\;&nbsp\;&nbsp\;&nbsp\;&nbsp\;&nbsp\;&nbsp\;&nbsp\;&nbsp\;&nbsp\;&nbsp\;&nbsp\;&nbsp\;&nbsp\;&nbsp\;&nbsp\;&nbsp\;&nbsp\;&nbsp\;&nbsp\;&nbsp\;&nbsp\;&nbsp\;&nbsp\;&nbsp\;&nbsp\;&nbsp\;&nbsp\;&nbsp\;&nbsp\;&nbsp\;&nbsp\;&nbsp\;&nbsp\;&nbsp\;&nbsp\;&nbsp\;&nbsp\;&nbsp\;&nbsp\;&nbsp\;&nbsp\;&nbsp\;&nbsp\;&nbsp\;&nbsp\;&nbsp\;&nbsp\;&nbsp\;&nbsp\;&nbsp\;&nbsp\;&nbsp\;&nbsp\;&nbsp\;&nbsp\;&nbsp\;&nbsp\;&nbsp\;&nbsp\;&nbsp\;&nbsp\;&nbsp\;&nbsp\;&nbsp\;&nbsp\;&nbsp\;&nbsp\;&nbsp\;&nbsp\; &nbsp\; &nbsp\; &nbsp\; &nbsp\; &nbsp\; &nbsp\; &nbsp\; &nbsp\; &nbsp\; &nbsp\; &nbsp\;&nbsp\; W: www.regionaltraining.qld.edu.au\n\nRTO No. 40702\n
LOCATION:Regional Training Services Qld\, 37 Nash Street\, Gympie QLD 4570\, QLD\, 4570
END:VEVENT
END:VCALENDAR
