BEGIN:VCALENDAR
VERSION:2.0
PRODID:-//My Community Diary//iCal Event//EN
CALSCALE:GREGORIAN
METHOD:PUBLISH
BEGIN:VEVENT
UID:5217f655-08cb-4034-8176-d64302de70b2
DTSTAMP:20260421T224139Z
DTSTART;VALUE=DATE:20260802
DTEND;VALUE=DATE:20260803
SUMMARY:Culburra Beach Market
DESCRIPTION:Culburra Beach Markets is a thriving\, all-local monthly market at the tranquil location of Culburra Beach Community Centre and tree-lined reserve. \n\nThey have dozens of stalls many of which are handmade and homegrown makers including cards and paper craft\, tie-dye\, crystals and gems\, clothing\, kids items and toys\, plants\, soaps and candles\, decor and home furnishings\, jams and preserves\, woodcraft and much more! \n\nHungry? Yo Mama Kitchen has you covered with Bacon and Egg Rolls and scones\, while Wicked Tasty Food has the best doughnuts\, coffee and cold drinks. \n\nThey look forward to seeing you every first Sunday of the month.
LOCATION:\, Fred Evans Lane\, Culburra Beach\, NSW 2540\, NSW\, 2540
RRULE:FREQ=DAILY;INTERVAL=1;UNTIL=20260804T000000Z
END:VEVENT
END:VCALENDAR
