BEGIN:VCALENDAR
VERSION:2.0
PRODID:-//My Community Diary//iCal Event//EN
CALSCALE:GREGORIAN
METHOD:PUBLISH
BEGIN:VEVENT
UID:cdb7f343-bd87-48ed-a475-e3200a594806
DTSTAMP:20260424T164558Z
DTSTART:20240309T000000Z
DTEND:20240309T235959Z
SUMMARY:Patches Asphalt Queanbeyan Rodeo
DESCRIPTION:Covid-19 canceled the 2021 and 2022 Rodeos but they are back in 2023.\n\nThe Queanbeyan-Palerang Regional Council community event of the year winner\, Patches Asphalt Queanbeyan Rodeo\, enters its 22nd year in 2023\, promising to be bigger and better than ever.\n\nThe rodeo will be held at the Queanbeyan Showground in Glebe Avenue on Saturday March 11 and will include bull rides\, bull dogging\, saddle bronc\, bare back\, barrel racing\, junior bull rides to mention only a few. \n\nFamilies can enjoy Side Show Alley\, children's activities\, retail stores as well as food and drink.\n\nIn addition to providing an action packed evening of family fun\, Patches Asphalt Queanbeyan Rodeo raises money for an ever growing list of local charities and community organisations. \n\nBack in 2020 the rodeo donated many thousands of dollars to the local community and\, with you support\, we look forward to doing so again\n\nThe Patches Asphalt Queanbeyan Rodeo is an annual event so you only get one chance a year to come along\, enjoy a fabulous day out and do your bit for your local community.\n\nSee Patches Asphalt Queanbeyan Rodeo on  Facebook for more information and your chance to win Free Tickets.\n\nSee you there.\n\nEntry Cost\nAll tickets $15  - Ticket prices for 2022 are\nAdults                                      AUD30\nSeniors.                                   AUD20\nChildren eight-15             AUD15\nChildren under eight      Free
LOCATION:\, Glebe Avenue\, Queanbeyan\, NSW 2620\, NSW\, 2620
END:VEVENT
END:VCALENDAR
