BEGIN:VCALENDAR
VERSION:2.0
PRODID:-//My Community Diary//iCal Event//EN
CALSCALE:GREGORIAN
METHOD:PUBLISH
BEGIN:VEVENT
UID:45bb9184-8f4c-40a7-9ace-2a6f80bef5d0
DTSTAMP:20260424T164435Z
DTSTART:20240517T090000Z
DTEND:20240517T220000Z
SUMMARY:Margaret River Readers and Writers Festival 2024
DESCRIPTION:The Margaret River Readers and Writers Festival returns\, featuring a dazzling array of novelists\, journalists\, innovators and big thinkers from West Australia\, interstate and overseas\, alongside artists\, performers emerging storytellers.\n\nThe Festival will celebrate storytelling across multiple art forms\, featuring author talks\, workshops\, and networking events alongside a program of art installations\, performances and a host of special events.\n\nThe Festival hub will return at the new state-of-the-art entertainment venue\, Margaret River Heart with satellite events hosted across Margaret River\, Busselton\, Dunsborough and Augusta\, showcasing all the delights of the beautiful Margaret River region. \n\nDon't miss the one-day "Busselton Special Edition" Literary Festival in Busselton\, featuring authors sessions\, panels\, free family activities and highlight dinner.\n\nWith Western Australian borders now open and direct flights from all major cities to Perth and a new direct route from Melbourne to Busselton\, the Festival is more accessible than\never.\n\nCome along and discover a celebration of storytelling\, creativity\, and community in the picturesque Margaret River region.
LOCATION:\, 47 Wallcliffe Road\, Margaret River\, WA 6285\, WA\, 6285
RRULE:FREQ=DAILY;INTERVAL=1;UNTIL=20240520T000000Z
END:VEVENT
END:VCALENDAR
