BEGIN:VCALENDAR
VERSION:2.0
PRODID:-//My Community Diary//iCal Event//EN
CALSCALE:GREGORIAN
METHOD:PUBLISH
BEGIN:VEVENT
UID:4e973bee-64f2-46df-b7cf-e29e7f5218cd
DTSTAMP:20260422T001616Z
DTSTART;VALUE=DATE:20260704
DTEND;VALUE=DATE:20260705
SUMMARY:High Tea at Garçon Bleu
DESCRIPTION:Experience the most gourmet of afternoon teas\, to share with friends or family\, every Saturday and Sunday at Garçon Bleu.\n\nEnjoy a glass of Champagne on arrival\, followed by coffee or loose-leaf tea to accompany the enticing array of delicate savoury bites\, freshly baked scones\, delectable French pastries and indulgent desserts. Gluten free\, dairy free\, vegetarian and vegan options are available on request.\n\nIndulge in an exquisite array of sweet and savoury treats\, designed to share and perfectly paired with loose-leaf tea and coffee served throughout your sitting. Our talented chefs have curated a menu of High Tea favourites\, reimagined with a touch of French flair. From intimate celebrations to leisurely afternoons\, our High Tea is where elegance meets indulgence.\n\nWe've created four distinctive packages\, perfect for any occasion:\n\nSofitel High Tea – AUD79 per adult\nIncludes a glass of Veuve Ambal on arrival for a touch of classic elegance.\nUpgrade to their Premium High Tea for a glass of Pommery Champagne on arrival for AUD10\n\nSparkling High Tea – AUD109 per adult\nDelight in free-flowing Veuve Ambal for the duration of your two-hour sitting.\n\nNever Never Gin High Tea – AUD119 per adult\nA unique collaboration with Never Never Distilling Co.\, featuring free-flowing gin spritzes and cocktails for two hours.\n\n\nEvery Saturday and Sunday | 1:00pm & 1:30pm\n\nEntry Cost\nAll tickets $79 
LOCATION:\, 108 Currie Street Level 9\, Adelaide\, SA 5000\, SA\, 5000
RRULE:FREQ=DAILY;INTERVAL=1;UNTIL=20260706T000000Z
END:VEVENT
END:VCALENDAR
