BEGIN:VCALENDAR
VERSION:2.0
PRODID:-//My Community Diary//iCal Event//EN
CALSCALE:GREGORIAN
METHOD:PUBLISH
BEGIN:VEVENT
UID:363aa692-78bd-4ae9-8d94-43e9c317b996
DTSTAMP:20260424T160644Z
DTSTART:20240128T000000Z
DTEND:20240128T235959Z
SUMMARY:Corowa Rotary Federation Festival Parade
DESCRIPTION:The final event in a weekend of festivities to celebrate Corowa as the Birthplace of Federation.\n\nThe theme in 2023 is "ROYALTY"\n\nFloats prepared by local businesses\, sporting clubs\, schools and community groups join several bands in a parade down Sanger Street\, Corowa.\n\nPipe and Brass Bands from NSW and Victoria provide music for the parade and later at the market in Bangerang Park. \n\nCome along and cheer the floats and bands along as they make their way down Sanger Street.\n\nThe Parade finishes at Bangerang Park where the Federation Market will be underway with food and drinks available.\n\nPrizes in 2022 were sponsored by Essential Energy and were from AUD250 to AUD1000.
LOCATION:\, Sanger Street\, Corowa\, NSW 2646\, NSW\, 2646
END:VEVENT
END:VCALENDAR
