BEGIN:VCALENDAR
VERSION:2.0
PRODID:-//My Community Diary//iCal Event//EN
CALSCALE:GREGORIAN
METHOD:PUBLISH
BEGIN:VEVENT
UID:df27ee66-80ea-46ce-a82a-3e54055732cf
DTSTAMP:20260422T020910Z
DTSTART;VALUE=DATE:20260906
DTEND;VALUE=DATE:20260907
SUMMARY:Ride Dungog Social Rides
DESCRIPTION:Every week there's a ride! Discover exhilarating mountain biking adventures in the breathtaking Dungog region with Ride Dungog. Join in on Ride Dungog's Social Rides\, including the Tuesday Fosterton Loop Social Ride\, The Dungog Shire Social Ride held every Friday and the Saturday Singletrack Social Ride which is a weekly highlight for mountain biking enthusiasts. \n\nThese rides are fantastic opportunities to connect with fellow riders\, share experiences\, and immerse in the vibrant cycling community of Dungog.\n\nDelve into over 22 kilometres of purpose-built single-track rides that cater to riders of all skill levels\, from beginners to seasoned pros. The trails are designed to maximize the thrill of riding while respecting and preserving the natural environment. For detailed trail information\, explore the offerings on Trail Forks or visit the website.\n\nWithin the Reserve\, riders can experience the excitement of the purpose-built fun track and tackle the challenges of the 2.2-kilometre groomed flow track. These features add diversity and excitement to the riding experience\, ensuring there's always something new to explore.\n\nEmbark on pedal-powered adventures like never before with Ride Dungog. Explore the beauty of the trails\, push your limits\, and be part of a community dedicated to the joy of mountain biking.
LOCATION:\, 74 Common Road\, Dungog\, NSW 2420\, NSW\, 2420
RRULE:FREQ=DAILY;INTERVAL=1;UNTIL=20260908T000000Z
END:VEVENT
END:VCALENDAR
