BEGIN:VCALENDAR
VERSION:2.0
PRODID:-//My Community Diary//iCal Event//EN
CALSCALE:GREGORIAN
METHOD:PUBLISH
BEGIN:VEVENT
UID:1ef1c798-c9e6-451e-b9f8-b6f23f99c8ac
DTSTAMP:20260424T160628Z
DTSTART:20240608T090000Z
DTEND:20240608T200000Z
SUMMARY:Griffith Shaheedi Tournament
DESCRIPTION:Every June long weekend the Sikh community hold a two day event at Ted Scobie Oval against the backdrop of Scenic Hill in Griffith. Enjoy traditional Indian cuisine throughout the day as well as soccer\, tug-o-war\, kabbadi: a wrestling sport originating from very early Indian civilisation\, and athletic events for the kids. \n\nThis is a popular cultural event which attracts thousands of people to Griffith from around Australia and overseas\, to compete in and watch the games and to enjoy the celebrations.
LOCATION:\, Griffith\, NSW 2680\, NSW\, 2680
RRULE:FREQ=DAILY;INTERVAL=1;UNTIL=20240610T000000Z
END:VEVENT
END:VCALENDAR
