BEGIN:VCALENDAR
VERSION:2.0
PRODID:-//My Community Diary//iCal Event//EN
CALSCALE:GREGORIAN
METHOD:PUBLISH
BEGIN:VEVENT
UID:1fbe2f2f-e64c-47e1-875e-caff167c0e92
DTSTAMP:20260424T173211Z
DTSTART;TZID=E. Australia Standard Time:20190117T083000
DTEND;TZID=E. Australia Standard Time:20190117T110000
SUMMARY:RFDS GP Clinic (Savannah Regional Health Services) - Einasleigh
DESCRIPTION:Royal Flying Doctor Service of Australia (Queensland Section).\n\nTo confirm precise times and to book an appointment please call 07 4040 0444.\n
LOCATION:RFDS Clinic Einasleigh (Savannah Regional Health Services)\, Baroota Street\, Einasleigh QLD\, Australia\, QLD\, 4871
RRULE:FREQ=WEEKLY;INTERVAL=4;BYDAY=TH
END:VEVENT
END:VCALENDAR
