BEGIN:VCALENDAR
VERSION:2.0
PRODID:-//My Community Diary//iCal Event//EN
CALSCALE:GREGORIAN
METHOD:PUBLISH
BEGIN:VEVENT
UID:e81b32dd-8e79-46cc-a6d0-45f4fee67a2b
DTSTAMP:20260424T154943Z
DTSTART;VALUE=DATE:20190116
DTEND;VALUE=DATE:20190117
SUMMARY:RFDS GP Clinic - Ravenswood
DESCRIPTION:Royal Flying Doctor Service of Australia (Queensland Section).\n\nTo confirm precise times and to book an appointment please call 07 4040 0444.\n
LOCATION:QLD Ambulance Building\, Deighton Street\, Ravenswood QLD\, Australia\, QLD\, 4816
RRULE:FREQ=WEEKLY;INTERVAL=4;BYDAY=WE
END:VEVENT
END:VCALENDAR
