BEGIN:VCALENDAR
VERSION:2.0
PRODID:-//My Community Diary//iCal Event//EN
CALSCALE:GREGORIAN
METHOD:PUBLISH
BEGIN:VEVENT
UID:b6564e83-abbc-4d03-9243-1bf98009568e
DTSTAMP:20260424T160020Z
DTSTART;TZID=E. Australia Standard Time:20190212T190000
DTEND;TZID=E. Australia Standard Time:20190212T210000
SUMMARY:QMS Monthly Meeting (Except January)
DESCRIPTION:Our monthly meetings are&nbsp\;held at the FM Bailey Room at the QLD Herbarium\, Mt Coot-tha Road\, Toowong\, at 7pm on the second Tuesday of each month (except January).&nbsp\; These informal gatherings are both social and educational and can include talks by guest speakers\, foray reports and/or ‘show and tell’ sessions by members keen to share interesting experiences and specimens with the group.&nbsp\; The meetings are followed by a light supper and finish by 9pm.\n
LOCATION:Mt Coot-Tha Botanical Gardens\, Queensland Herbarium\, Mount Coot Tha Rd\, Toowong QLD 4066\, Australia\, QLD\, 4066
RRULE:FREQ=MONTHLY;INTERVAL=1;BYDAY=3MO
END:VEVENT
END:VCALENDAR
