BEGIN:VCALENDAR
VERSION:2.0
PRODID:-//My Community Diary//iCal Event//EN
CALSCALE:GREGORIAN
METHOD:PUBLISH
BEGIN:VEVENT
UID:f452cf76-491e-4b97-a8e0-02371e09b610
DTSTAMP:20260421T224142Z
DTSTART;TZID=AUS Eastern Standard Time:20250204T093000
DTEND;TZID=AUS Eastern Standard Time:20250204T121500
SUMMARY:CLUB BANORA GARDEN CLUB
DESCRIPTION:Benching available for those who wish to bring a favourite plant or flower. You may win a prize. Have a cuppa and make new friends. &nbsp\;You don't have to have a garden or be a gardener but just find enjoyment in nature and friendship. Hope to see you there. This month we have an interesting guest speaker. 2 members are selling plants.\n
LOCATION:Club Banora Garden CLub\, Leisure Drive\, Banora Point NSW 2486\, NSW\, 2486
RRULE:FREQ=MONTHLY;INTERVAL=1;BYDAY=3MO
END:VEVENT
END:VCALENDAR
