BEGIN:VCALENDAR
VERSION:2.0
PRODID:-//My Community Diary//iCal Event//EN
CALSCALE:GREGORIAN
METHOD:PUBLISH
BEGIN:VEVENT
UID:22d9b091-a7b4-4b34-814b-90d9a6baaebe
DTSTAMP:20260424T155947Z
DTSTART:20210208T080000Z
DTEND:20210208T170000Z
SUMMARY:Optometry - Maryborough
DESCRIPTION:Lisa Penrose-Herbert at Galangoor Duwulami Primary Health Care Service – Maryborough. Please confirm precise times with the service provider. Please contact 0481 267 015 for more information about this visiting service.
LOCATION:\, 87-89 Bazaar Street\, Maryborough\, QLD\, 4650\, QLD\, 4650
END:VEVENT
END:VCALENDAR
