BEGIN:VCALENDAR
VERSION:2.0
PRODID:-//My Community Diary//iCal Event//EN
CALSCALE:GREGORIAN
METHOD:PUBLISH
BEGIN:VEVENT
UID:1a767ca0-3d32-4c64-bf9f-02d6f823edf1
DTSTAMP:20260424T165132Z
DTSTART:20230811T000000Z
DTEND:20230811T235959Z
SUMMARY:Sapphire Coast Orchid Club Winter Orchid Show
DESCRIPTION:The Sapphire Coast Orchid Club's Winter Show is a most spectacular orchid show and will be held at Twyford Hall Merimbula on the NSW far South Coast. This annual event attracts growers from all over the far south coast vying for the coveted awards.\n\nCymbidium orchids are at their best at this time of the year\, and visitors can see the state of the art blooms on show.  Along with the rapidly expanding Australian native orchid section\, there are many other exotic varieties of orchids on show. Potting demonstrations and tips on orchid culture will be given by some of the South Coast's top orchid growers.\n\nThere is a sales table where members sell excess plants\, this provides an opportunity for both the enthusiast as well as the public to purchase quality plants at very reasonable prices. Entry is free. For more information go to the web site.
LOCATION:\, Market Street Twyford Hall\, Merimbula\, NSW 2548\, NSW\, 2548
RRULE:FREQ=DAILY;INTERVAL=1;UNTIL=20240819T000000Z
END:VEVENT
END:VCALENDAR
