BEGIN:VCALENDAR
VERSION:2.0
PRODID:-//My Community Diary//iCal Event//EN
CALSCALE:GREGORIAN
METHOD:PUBLISH
BEGIN:VEVENT
UID:924c9194-d700-4087-b482-53393091dbb7
DTSTAMP:20260424T164948Z
DTSTART:20240907T080000Z
DTEND:20240907T160000Z
SUMMARY:Sample Food Festival
DESCRIPTION:The 12th Annual Sample Food Festival\, a taste of Northern NSW\,  will be held at the Bangalow Showground in Byron Bay's hinterland.\n\nSample Food Festival celebrates the incredible produce\, unique culinary experiences and creative talent of the local chefs\, farmers and producers from the Northern Rivers. \n\nThe 2024 Sample Food Festival will feature a lineup of guest chefs\, live cooking demonstrations and local restaurants offering a selection of tasting plates on the day. Regional brewers and distilleries will be selling a range of beverages in a dedicated bar area and over100 exhibitors will be showcasing a range of packaged food products\, artisan breads and cheeses\, homewares and gifts. \n\nSample Food Festival is proudly a family-friendly event and features children's activities and a live music stage. There will be a series of workshops and pop-up events announced in the lead up to the festival as well as special guests. For more information and tickets\, visit the website.\n\nEntry Cost\nAll tickets $5  - AUD5 entry fee and other prices are advertised on the website.
LOCATION:\, Market Street\, Bangalow\, NSW 2479\, NSW\, 2479
END:VEVENT
END:VCALENDAR
